BEGIN:VCALENDAR
VERSION:2.0
PRODID:icalendar-ruby
CALSCALE:GREGORIAN
METHOD:PUBLISH
BEGIN:VEVENT
DTSTAMP:20260420T104608Z
UID:302-719203@stthomaschilliwack.org
DTSTART:20260808T163000Z
DTEND:20260808T223000Z
CLASS:PUBLIC
CREATED:20260416T101409
DESCRIPTION:A morning to explore the connections between spirituality and c
 reativity in the Celtic tradition. Share in the gentle rhythms of Celti
 c prayer\, and learn to draw simple Celtic knots. (NB\, no artistic exp
 erience needed!)\nBelinda grew up in the border country of England and Wal
 es\; an area of outstanding natural beauty\, surrounded by the artistic an
 d spiritual traditions of the Celts and Anglo-Saxons. Fascinated by the in
 tricate patterns of the illuminated manuscripts\, and by the artistic expr
 ession of spirituality in Celtic and Anglo-Saxon design\, Belinda studie
 d at Manchester Polytechnic (formerly the Manchester School of Art)\, rece
 iving an Honours degree in Design History. Now living in Mission\, BC\, Be
 linda pursues a path of artistic and spiritual discovery\, producing new d
 esigns inspired and informed by her Celtic background. Belinda also has 
 a keen appreciation of the natural world\, and loves to capture birds and 
 animals in detailed pencil drawings. She also loves to share her passion f
 or art and teaches both pencil drawing and Celtic art.
LAST-MODIFIED:20260416T101409
LOCATION:Chilliwack\, BC
SUMMARY:Celtic Spirituality and Design
URL;VALUE=URI:https://www.stthomaschilliwack.org/events/celtic-spirituality
 -and-design/2026-08-08
ATTACH;FILENAME=celt.png;FMTTYPE=image/png:https://dq5pwpg1q8ru0.cloudfront
 .net/2026/04/16/17/11/58/46d3360c-c597-4a6f-8a12-c15fc2de3577/celt.png
END:VEVENT
END:VCALENDAR
