BEGIN:VCALENDAR
VERSION:2.0
PRODID:icalendar-ruby
CALSCALE:GREGORIAN
METHOD:PUBLISH
BEGIN:VEVENT
DTSTAMP:20260425T140006Z
UID:113-744151@stthomaschilliwack.org
DTSTART:20261018T170500Z
DTEND:20261018T174500Z
CLASS:PUBLIC
CREATED:20260425T062313
DESCRIPTION:Children's Circle\, Sunday Mornings. \n\nChildren are invited u
 pstairs to the Children's Circle Room during the service. Using a Montesso
 ri approach to wonder\, we engage with story\, activities\, and crafts. Ch
 ildren return to the service for the Eucharist to be with their families. 
 There is a toddler play area both on the carpet in the service and upstair
 s by the Children's Circle room.\n 
LAST-MODIFIED:20260425T062313
LOCATION:St Thomas\, Chilliwack
SUMMARY:Children's Circle
URL;VALUE=URI:https://www.stthomaschilliwack.org/events/childrens-circle/20
 26-10-18
ATTACH;FILENAME=children%27s-circle.jpg;FMTTYPE=image/jpeg:https://dq5pwpg1
 q8ru0.cloudfront.net/2025/09/18/20/26/33/fcd9842d-cd59-4e5e-a77c-424c4d33c
 495/children%2527s-circle.jpg
ATTACH;FILENAME=kids room at St. T story corner.jpg;FMTTYPE=image/jpeg:http
 s://dq5pwpg1q8ru0.cloudfront.net/2024/07/02/16/49/47/16548a9a-fd26-423c-a3
 36-0cd279f5097d/kids%20room%20at%20St.%20T%20story%20corner.jpg
ATTACH;FILENAME=kids rainbow art at St T.jpg;FMTTYPE=image/jpeg:https://dq5
 pwpg1q8ru0.cloudfront.net/2024/07/02/16/49/47/3616db5b-4925-4bab-b3dc-5bed
 f8591d1b/kids%20rainbow%20art%20at%20St%20T.jpg
END:VEVENT
END:VCALENDAR
