BEGIN:VCALENDAR
VERSION:2.0
PRODID:icalendar-ruby
CALSCALE:GREGORIAN
METHOD:PUBLISH
BEGIN:VEVENT
DTSTAMP:20260420T222608Z
UID:300-699899@stthomaschilliwack.org
DTSTART:20260425T163000Z
DTEND:20260425T193000Z
CLASS:PUBLIC
CREATED:20260409T143311
DESCRIPTION:A Retreat-Style Day Workshop\, facilitated by Rev. Cameron Gutj
 ahar.\nAll are invited to the morning workshop.\nFacilitated by Rev. Camer
 on Gutjahr\nWhy are science and religion so often portrayed as being incom
 patible with one another\, or even antagonistic? This is not the only way.
  At their best\, they have much in common. Both can be disciplines that en
 courage curiosity\, wonder and delight – spaces that are open for asking
  questions and exploring connection and relationship.\nIn the Spiritual Pr
 actice of Evolution &amp\; Ecology we will have a contemplative opportunit
 y to explore how evolution and ecology can enhance and deepen our spiritua
 l lives in a Christian framework.\nCome learn about and delight in evoluti
 on and ecology\, pray with phylogenetic trees\, meditate with microscopic 
 organisms\, and reflect on the relationships that connect us to all living
  things\, and ultimately\, God.\n Youth are invited for a special afterno
 on session with Cameron\, same day\, at 1-3pm.
LAST-MODIFIED:20260409T143311
LOCATION:St. Thomas\, 46048 Gore Avenue\, Chilliwack
SUMMARY:Ecology\, Evolution & Spirituality
URL;VALUE=URI:https://www.stthomaschilliwack.org/events/ecology-evolution-s
 pirituality--300/2026-04-25
ATTACH;FILENAME=eco.png;FMTTYPE=image/png:https://dq5pwpg1q8ru0.cloudfront.
 net/2026/04/09/21/32/26/90de13ed-099a-4bb1-9a9b-c59ea3aa510c/eco.png
END:VEVENT
END:VCALENDAR
