BEGIN:VCALENDAR
VERSION:2.0
PRODID:icalendar-ruby
CALSCALE:GREGORIAN
METHOD:PUBLISH
BEGIN:VEVENT
DTSTAMP:20260420T112901Z
UID:303-719204@stthomaschilliwack.org
DTSTART:20260711T163000Z
DTEND:20260711T223000Z
CLASS:PUBLIC
CREATED:20260416T101532
DESCRIPTION:\nFacilitator: Rev. Lorie Martin and friends \n\nThis day is se
 t aside to rest and refresh our souls. It will include lightly guided medi
 tation\, times in solitude and community\, a labyrinth walk\, creative exp
 ressions such as collage and mandalas\, and a swim in the lake if one want
 s!\n
LAST-MODIFIED:20260416T101532
LOCATION:Cultus Lake\, Chilliwack
SUMMARY:Into Woods | Water & Wonder Day Retreat
URL;VALUE=URI:https://www.stthomaschilliwack.org/events/into-woods-water-wo
 nder-day-retreat/2026-07-11
ATTACH;FILENAME=wood.png;FMTTYPE=image/png:https://dq5pwpg1q8ru0.cloudfront
 .net/2026/04/01/21/50/01/b8888277-706f-4461-875a-7df6e23ac20f/wood.png
END:VEVENT
END:VCALENDAR
