BEGIN:VCALENDAR
VERSION:2.0
PRODID:icalendar-ruby
CALSCALE:GREGORIAN
METHOD:PUBLISH
BEGIN:VEVENT
DTSTAMP:20260420T103710Z
UID:304-719206@stthomaschilliwack.org
DTSTART:20260530T153000Z
DTEND:20260530T230000Z
CLASS:PUBLIC
CREATED:20260416T110806
DESCRIPTION:The Diocese of New Westminster is excited to be hosting Mission
  Conference 2026 on Saturday\, May 30. The theme this year is “Moving in
  Mission\, Guided by Spirit.” Archbishop Michael Curry\, former presidin
 g bishop of the Episcopal Church\, will be keynote speaker. \nThe confere
 nce will also feature breakout sessions with presenters: Ray Aldred\, Mark
  Glanville\, Ross Lockhart\, Jessica Schaap\, Rikki Kooy\, and Lauren Pink
 ney. \nThere is a weekend of events planned around the conference itself.
  Join us on Friday\, May 29 at 7:30pm for “Sing Without Ceasing\,” a C
 hoir Festival featuring liturgical choirs from around the diocese. The con
 ference takes place May 30 at the Synod Office (1410 Nanton Ave). We concl
 ude the weekend with a Eucharist service at Christ Church Cathedral on Sun
 day\, May 31 at 10:30am. \nFull speaker listings and registration will be
  landing in in-boxes in the days ahead. \nRegistration is FREE. Childcare
  will be available.\nOn Saturday\, May 30 the conference takes place at th
 e Synod Office (1410 Nanton Ave\, Vancouver). \nDoors open at 8:30am for 
 a 9am start. 
LAST-MODIFIED:20260416T110806
LOCATION:Synod Office
SUMMARY:Mission Conference
URL;VALUE=URI:https://www.stthomaschilliwack.org/events/mission-conference/
 2026-05-30
ATTACH;FILENAME=Mission Conference - 2026_Poster_web.png;FMTTYPE=image/png:
 https://dq5pwpg1q8ru0.cloudfront.net/2026/04/16/18/06/57/1454a34b-1dde-429
 3-b614-12f90e0e1406/Mission%20Conference%20-%202026_Poster_web.png
END:VEVENT
END:VCALENDAR
