BEGIN:VCALENDAR
VERSION:2.0
PRODID:icalendar-ruby
CALSCALE:GREGORIAN
METHOD:PUBLISH
BEGIN:VEVENT
DTSTAMP:20260424T160933Z
UID:99-741210@stthomaschilliwack.org
DTSTART:20261011T180000Z
DTEND:20261011T190000Z
CLASS:PUBLIC
CREATED:20260424T063943
DESCRIPTION:Join us for coffee\, tea\, snacks\, and fellowship following th
 e 9 am Sunday Service.\nIncludes an Activity Table for the kids!\nEveryone
  is welcome!
LAST-MODIFIED:20260424T063943
LOCATION:St Thomas\, Chilliwack
SUMMARY:Sunday Coffee Hour
URL;VALUE=URI:https://www.stthomaschilliwack.org/events/sunday-coffee-hour-
 -99/2026-10-11
ATTACH;FILENAME=CoffeeHour 1500x784.jpg;FMTTYPE=image/jpeg:https://dq5pwpg1
 q8ru0.cloudfront.net/2022/08/29/17/38/53/888ba8e6-f95c-436f-9e16-714af1da9
 062/CoffeeHour%201500x784.jpg
END:VEVENT
END:VCALENDAR
